BEGIN:VCALENDAR
VERSION:2.0
PRODID:-//Squarespace Inc/Squarespace 6//v6//EN
BEGIN:VEVENT
UID:5b208ffc0e2e72c2ed6e644b@squarespace.com
DTSTAMP:20190515T010351Z
DTSTART:20190726T233000Z
DTEND:20190728T063000Z
SUMMARY:TRAIN THE TRAINER 
END:VEVENT
END:VCALENDAR
