BEGIN:VCALENDAR
VERSION:2.0
PRODID:-//Squarespace Inc/Squarespace 6//v6//EN
BEGIN:VEVENT
UID:5b20906daa4a9940a901f78b@squarespace.com
DTSTAMP:20190614T080810Z
DTSTART:20190621T230000Z
DTEND:20190623T020000Z
SUMMARY:PERTH and MANDALA MAGIC
END:VEVENT
END:VCALENDAR
