BEGIN:VCALENDAR
VERSION:2.0
PRODID:-//Squarespace Inc/Squarespace 6//v6//EN
BEGIN:VEVENT
UID:5acc201d1ae6cf686a1ed854@squarespace.com
DTSTAMP:20190503T222810Z
DTSTART:20190531T233000Z
DTEND:20190601T063000Z
SUMMARY:Emotional Freedom Technique
END:VEVENT
END:VCALENDAR
