BEGIN:VCALENDAR
VERSION:2.0
PRODID:-//Squarespace Inc/Squarespace 6//v6//EN
BEGIN:VEVENT
UID:5b2093d0758d46d915530c86@squarespace.com
DTSTAMP:20190503T223334Z
DTSTART:20190818T070000Z
DTEND:20190824T190000Z
SUMMARY:BALI MANDALA &amp\; MEDITATION &amp\; HEALING RETREAT 
END:VEVENT
END:VCALENDAR
