BEGIN:VCALENDAR
VERSION:2.0
PRODID:-//Squarespace Inc/Squarespace 6//v6//EN
BEGIN:VEVENT
UID:5c354d9e758d4661a0d90728@squarespace.com
DTSTAMP:20190503T221441Z
DTSTART:20190605T233000Z
DTEND:20190627T023000Z
SUMMARY:Thursday Morning Mandala Term 2
END:VEVENT
END:VCALENDAR
