BEGIN:VCALENDAR
VERSION:2.0
PRODID:-//Squarespace Inc/Squarespace 6//v6//EN
BEGIN:VEVENT
UID:5c35446e0ebbe85b8cf94d52@squarespace.com
DTSTAMP:20190614T080931Z
DTSTART:20190720T230000Z
DTEND:20190721T070000Z
SUMMARY:Mandala Magic in a day
END:VEVENT
END:VCALENDAR
