BEGIN:VCALENDAR
VERSION:2.0
PRODID:-//Squarespace Inc/Squarespace 6//v6//EN
BEGIN:VEVENT
UID:5c35524cc2241bf9e4b53e26@squarespace.com
DTSTAMP:20190408T042952Z
DTSTART:20190921T070000Z
DTEND:20190929T000000Z
SUMMARY:RETREAT IN SOUTHERN FRANCE
END:VEVENT
END:VCALENDAR
